BEGIN:VCALENDAR
VERSION:2.0
PRODID:-//Phenom America - ECPv6.15.20//NONSGML v1.0//EN
CALSCALE:GREGORIAN
METHOD:PUBLISH
X-ORIGINAL-URL:https://phenomamerica.com
X-WR-CALDESC:Events for Phenom America
REFRESH-INTERVAL;VALUE=DURATION:PT1H
X-Robots-Tag:noindex
X-PUBLISHED-TTL:PT1H
BEGIN:VTIMEZONE
TZID:America/Denver
BEGIN:DAYLIGHT
TZOFFSETFROM:-0700
TZOFFSETTO:-0600
TZNAME:MDT
DTSTART:20250309T090000
END:DAYLIGHT
BEGIN:STANDARD
TZOFFSETFROM:-0600
TZOFFSETTO:-0700
TZNAME:MST
DTSTART:20251102T080000
END:STANDARD
BEGIN:DAYLIGHT
TZOFFSETFROM:-0700
TZOFFSETTO:-0600
TZNAME:MDT
DTSTART:20260308T090000
END:DAYLIGHT
BEGIN:STANDARD
TZOFFSETFROM:-0600
TZOFFSETTO:-0700
TZNAME:MST
DTSTART:20261101T080000
END:STANDARD
BEGIN:DAYLIGHT
TZOFFSETFROM:-0700
TZOFFSETTO:-0600
TZNAME:MDT
DTSTART:20270314T090000
END:DAYLIGHT
BEGIN:STANDARD
TZOFFSETFROM:-0600
TZOFFSETTO:-0700
TZNAME:MST
DTSTART:20271107T080000
END:STANDARD
END:VTIMEZONE
BEGIN:VEVENT
DTSTART;TZID=America/Denver:20260511T140000
DTEND;TZID=America/Denver:20260511T140000
DTSTAMP:20260424T144146
CREATED:20250922T115504Z
LAST-MODIFIED:20250924T120115Z
UID:10000003-1778508000-1778508000@phenomamerica.com
SUMMARY:2026 PHENOM REGIONAL BOYS SAN MARCOS CALIFORNIA
DESCRIPTION:2026 PHENOM REGIONAL BOYS SAN MARCOS CALIFORNIA\nTerms & Conditions \nDate of Event: April 11th and 12th\, 2026 \nAccepting Grades: 2032 (Rising 6th)\, 2031 (Rising 7th)\, 2030 (Rising 8th)\, 2029 (Rising 9th)\, 2028 (Rising 10th)\, 2027 (Rising 11th)\, 2026 (Unsigned Seniors) \nLocation: Play-by-Play Productions\n1601 San Elijo Rd\nSan Marcos\, CA\, United States \nTuition: $199.00 Registration Fee includes uniform\, reversible jersey and shorts. Registration also includes regional camp participation\, competitive games\, written player evaluation\, and eligibility for a national camp invitation. \n \nPayment Schedule – Camp Fees are Non-Refundable \nIt is the responsibility of each Phenom Parent or guardian to have their participant’s payments submitted to the Phenom Basketball Office (by mail or online) **30 days prior** to the event. \n$199 + (additional camp ADD-ONS) per participant. Non-refundable deposit is due upon registration. To keep registration active\, all remaining balances must be paid by the posted deadlines. \nTo provide for a successful camp\, all these measures must be taken into consideration. Thank you for your cooperation. \nCoach: Eric Curley \nTwo-Day Camp Schedule (by Grade: 7th–11th)\nGlobal Game Rules \n\n3v3 Games → Played in sets (3 games\, best 2 of 3)\nEach game: to 7 points OR 5 minutes\nKing of the Court (1v1): Quick-rotation format; winners advance; 30-min slot\nPrizes for 1st & 2nd place in all contests (3pt\, Dunk\, 1v1)\n\nRegistration \n\nFriday\, April 10\, 2026 — 5:00 PM – 7:00 PM\n📍 Play-by-Play Productions – 1601 San Elijo Rd\, San Marcos\, CA\n\nSaturday (5 Hours Total\, incl. 1-Hour Lunch)\n9:00 AM – 2:00 PM \n\n9:00 – 9:10 → Welcome / Check-in\n9:10 – 9:25 → Dynamic Stretch (all divisions)\n9:25 – 9:55 → Coaching Session #1 (fundamentals & team prep)\n10:00 – 10:40 → Pool Play – Set Round 1 (A vs B | C vs D)\n10:40 – 11:20 → Pool Play – Set Round 2 (A vs C | B vs D)\n11:20 – 12:20 → Lunch Break\n12:20 – 12:50 → Coaching Session #2 (defensive switches\, teamwork)\n12:50 – 1:20 → Pool Play – Set Round 3 (A vs D | B vs C)\n1:20 – 1:50 → King of the Court (1v1 contest\, prizes for 1st & 2nd)\n1:50 – 2:00 → Wrap-up / Announcements\n\nSunday (6 Hours Total\, incl. 1-Hour Lunch)\n9:00 AM – 3:00 PM \n\n9:00 – 9:10 → Dynamic Stretch\n9:10 – 10:25 → Bracket Semifinals (best-of-3 sets)\n10:25 – 11:00 → Consolation Games (3rd place\, best-of-3 set)\n11:00 – 12:00 → Lunch Break\n12:00 – 12:35 → Three-Point Contest (prizes for 1st & 2nd)\n12:40 – 1:20 → Championship Games (best-of-3 set)\n1:25 – 1:45 → Awards Ceremony (division champs/runners-up\, 3pt winners\, King of the Court winners)\n1:50 – 2:30 → Dunk Contest (finale\, prizes for 1st & 2nd)\n2:30 – 3:00 → Photo Ops / Camp Closing\n\n  \n \nHOTEL DETAILS\n (Registration\, Uniform pick-up\, Schedule\, Team assignments\, Camp Store)\n \nBOOK HOTEL NOW
URL:https://phenomamerica.com/event/2026-phenom-regional-boys-san-marcos-california/
LOCATION:Play-by-Play Productions\, 1601 San Elijo Rd\, San Marcos\, CA\, United States
CATEGORIES:2026 Regional
ATTACH;FMTTYPE=image/webp:https://phenomamerica.com/wp-content/uploads/2025/09/1199GF_240731_1112_501_0093-1-1.webp
ORGANIZER;CN="Phenom America":MAILTO:phenomcamp@phenomamerica.com
END:VEVENT
END:VCALENDAR